BEGIN:VCALENDAR
VERSION:2.0
PRODID:-//IDA - ECPv6.15.18//NONSGML v1.0//EN
CALSCALE:GREGORIAN
METHOD:PUBLISH
X-WR-CALNAME:IDA
X-ORIGINAL-URL:https://doors.org
X-WR-CALDESC:Events for IDA
REFRESH-INTERVAL;VALUE=DURATION:PT1H
X-Robots-Tag:noindex
X-PUBLISHED-TTL:PT1H
BEGIN:VTIMEZONE
TZID:UTC
BEGIN:STANDARD
TZOFFSETFROM:+0000
TZOFFSETTO:+0000
TZNAME:UTC
DTSTART:20220101T000000
END:STANDARD
END:VTIMEZONE
BEGIN:VEVENT
DTSTART;VALUE=DATE:20231019
DTEND;VALUE=DATE:20231022
DTSTAMP:20260424T171247
CREATED:20230725T194736Z
LAST-MODIFIED:20230725T195034Z
UID:5577-1697673600-1697932799@doors.org
SUMMARY:IDA's Fall 2023 EduCon and Tradeshow
DESCRIPTION:
URL:https://doors.org/event/idas-fall-2023-educon-and-tradeshow/
CATEGORIES:IDA Event
ATTACH;FMTTYPE=image/jpeg:https://doors.org/wp-content/uploads/2023/06/milwaukee-1809871_640.jpg
END:VEVENT
END:VCALENDAR